BEGIN:VCALENDAR
VERSION:2.0
PRODID:-//Norkirken Tromsø - ECPv4.6.26.2//NONSGML v1.0//EN
CALSCALE:GREGORIAN
METHOD:PUBLISH
X-WR-CALNAME:Norkirken Tromsø
X-ORIGINAL-URL:https://norkirkentromso.no
X-WR-CALDESC:Events for Norkirken Tromsø
BEGIN:VEVENT
DTSTART;TZID=Europe/Oslo:20260117T110000
DTEND;TZID=Europe/Oslo:20260117T130000
DTSTAMP:20260423T083642
CREATED:20251126T100820Z
LAST-MODIFIED:20251126T100820Z
UID:1354-1768647600-1768654800@norkirkentromso.no
SUMMARY:Lørdagens hyggetreff
DESCRIPTION:Årets første Hyggetreff! \nEn hyggelig stund med fellesskap\, underholdning og god mat. \nUtlodning blir det også. \nLørdagens tema og gjest er ikke satt ennå\, men sett av datoen 🙂 \nDu er hjertelig velkommen! \n
URL:https://norkirkentromso.no/event/lordagens-hyggetreff-11/
LOCATION:Norkirken Tromsø\, Vestregata 24\, Tromsø
GEO:69.649694;18.9520831
X-APPLE-STRUCTURED-LOCATION;VALUE=URI;X-ADDRESS=Norkirken Tromsø Vestregata 24 Tromsø;X-APPLE-RADIUS=500;X-TITLE=Vestregata 24:geo:18.9520831,69.649694
CATEGORIES:Alle aktiviterer,Lørdagens hyggetreff
ATTACH;FMTTYPE=image/jpeg:https://norkirkentromso.no/content/uploads/sites/23/2021/01/anton-darius-EEfPFldri4k-unsplash-scaled.jpg
ORGANIZER;CN="Norkirken%20Troms%C3%B8":MAILTO:norkirken.tromso(a)normisjon.no
END:VEVENT
END:VCALENDAR